BEGIN:VCALENDAR
VERSION:2.0
PRODID:-//TJ Turista Kutná Hora - ECPv6.15.20//NONSGML v1.0//EN
CALSCALE:GREGORIAN
METHOD:PUBLISH
X-WR-CALNAME:TJ Turista Kutná Hora
X-ORIGINAL-URL:http://tj-turista.cz
X-WR-CALDESC:Akce na TJ Turista Kutná Hora
REFRESH-INTERVAL;VALUE=DURATION:PT1H
X-Robots-Tag:noindex
X-PUBLISHED-TTL:PT1H
BEGIN:VTIMEZONE
TZID:Europe/Prague
BEGIN:DAYLIGHT
TZOFFSETFROM:+0100
TZOFFSETTO:+0200
TZNAME:CEST
DTSTART:20250330T010000
END:DAYLIGHT
BEGIN:STANDARD
TZOFFSETFROM:+0200
TZOFFSETTO:+0100
TZNAME:CET
DTSTART:20251026T010000
END:STANDARD
BEGIN:DAYLIGHT
TZOFFSETFROM:+0100
TZOFFSETTO:+0200
TZNAME:CEST
DTSTART:20260329T010000
END:DAYLIGHT
BEGIN:STANDARD
TZOFFSETFROM:+0200
TZOFFSETTO:+0100
TZNAME:CET
DTSTART:20261025T010000
END:STANDARD
BEGIN:DAYLIGHT
TZOFFSETFROM:+0100
TZOFFSETTO:+0200
TZNAME:CEST
DTSTART:20270328T010000
END:DAYLIGHT
BEGIN:STANDARD
TZOFFSETFROM:+0200
TZOFFSETTO:+0100
TZNAME:CET
DTSTART:20271031T010000
END:STANDARD
END:VTIMEZONE
BEGIN:VEVENT
DTSTART;TZID=Europe/Prague:20260101T000000
DTEND;TZID=Europe/Prague:20261231T000000
DTSTAMP:20260419T163356
CREATED:20260105T133808Z
LAST-MODIFIED:20260105T134029Z
UID:407-1767225600-1798675200@tj-turista.cz
SUMMARY:Kalendář akcí 2026
DESCRIPTION:Kalendář akcí_2026
URL:http://tj-turista.cz/event/kalendar-akci-2026/
END:VEVENT
END:VCALENDAR